BEGIN:VCALENDAR
VERSION:2.0
CALSCALE:GREGORIAN
METHOD:PUBLISH
PRODID:-//voltactivedata//EN
BEGIN:VEVENT
UID:69ecda05a23fa@voltactivedata.com
DTSTAMP:20260425T151309Z
DTSTART;TZID=EST:20250821T110000
DTEND;TZID=EST:20250821T120000
SUMMARY:Adaptive Learning on Streaming Data for IIoT Security | Data in Charge
END:VEVENT
END:VCALENDAR